BEGIN:VCALENDAR
VERSION:2.0
PRODID:-//RKMRC - ECPv5.8.0//NONSGML v1.0//EN
CALSCALE:GREGORIAN
METHOD:PUBLISH
X-WR-CALNAME:RKMRC
X-ORIGINAL-URL:https://rkmrc.in
X-WR-CALDESC:Events for RKMRC
BEGIN:VTIMEZONE
TZID:UTC
BEGIN:STANDARD
TZOFFSETFROM:+0000
TZOFFSETTO:+0000
TZNAME:UTC
DTSTART:20190101T000000
END:STANDARD
END:VTIMEZONE
BEGIN:VEVENT
DTSTART;VALUE=DATE:20190316
DTEND;VALUE=DATE:20190317
DTSTAMP:20260420T093526
CREATED:20190625T210607Z
LAST-MODIFIED:20190625T212548Z
UID:6153-1552694400-1552780799@rkmrc.in
SUMMARY:Annual Prize-giving ceremony
DESCRIPTION:Annual Prize-giving ceremony was held on 16 March 2019 at the College New Auditorium at 11:15 a.m. Revered Swami Muktidanandaji Maharaj\, President\, Advaita Ashrama\, Kolkata\, was the President. Shri Barindra Snyal\, Vice-President\, Tata Consultancy Services\, Mumbai was present there as the Guest-in-Chief. Revered Swami Sarvalokanandaji\, Seceretary of Ramakrishna Mission Ashrama\, Narendrapur addressed the students. Swami Bhudevanandaji\, Principal of the College was also present. All the students of the College assembled there on that auspicious occasion.
URL:https://rkmrc.in/event/annual-prize-giving-ceremony/
LOCATION:RKMRC New Building\, Narendrapur\, KOLKATA\, 700103\, India
CATEGORIES:College Events
END:VEVENT
END:VCALENDAR