BEGIN:VCALENDAR
VERSION:2.0
PRODID:-//RKMRC - ECPv5.8.0//NONSGML v1.0//EN
CALSCALE:GREGORIAN
METHOD:PUBLISH
X-WR-CALNAME:RKMRC
X-ORIGINAL-URL:https://rkmrc.in
X-WR-CALDESC:Events for RKMRC
BEGIN:VTIMEZONE
TZID:UTC
BEGIN:STANDARD
TZOFFSETFROM:+0000
TZOFFSETTO:+0000
TZNAME:UTC
DTSTART:20190101T000000
END:STANDARD
END:VTIMEZONE
BEGIN:VEVENT
DTSTART;VALUE=DATE:20190730
DTEND;VALUE=DATE:20190731
DTSTAMP:20260420T092352
CREATED:20190718T091924Z
LAST-MODIFIED:20190718T092558Z
UID:6312-1564444800-1564531199@rkmrc.in
SUMMARY:Swami Ramakrishnanandaji Jayanti
DESCRIPTION:Special Puja at Ramakrishnananda Bhavan in the morning and noon prasada in the bhavan’s dinning hall. \n  \n 
URL:https://rkmrc.in/event/swami-ramakrishnanandaji-jayanti/
LOCATION:Ramakrishnananda Bhavana
CATEGORIES:Bhavana Events
ATTACH;FMTTYPE=image/jpeg:https://rkmrc.in/wp-content/uploads/2019/07/trio-TMS.jpg
END:VEVENT
END:VCALENDAR